BEGIN:VCALENDAR
VERSION:2.0
PRODID:-//Vi i Langban//Event Calendar//SV
CALSCALE:GREGORIAN
METHOD:PUBLISH
BEGIN:VEVENT
UID:vil-event-2307@langban.se
DTSTAMP:20260425T144205Z
SUMMARY:MC-premiär i Filipstad
LOCATION:Stora Torget Filipstad
DTSTART:20260403T103000Z
DTEND:20260403T113000Z
STATUS:CONFIRMED
TRANSP:OPAQUE
END:VEVENT
END:VCALENDAR
