BEGIN:VCALENDAR
VERSION:2.0
PRODID:-//Vi i Langban//Event Calendar//SV
CALSCALE:GREGORIAN
METHOD:PUBLISH
BEGIN:VEVENT
UID:vil-event-2781@langban.se
DTSTAMP:20260425T124733Z
SUMMARY:Upplev en kunglig middag på Big Hill Lodge i Filipstad
LOCATION:Big Hill Lodge
DTSTART:20260509T173000Z
DTEND:20260509T183000Z
STATUS:CONFIRMED
TRANSP:OPAQUE
END:VEVENT
END:VCALENDAR
