BEGIN:VCALENDAR
VERSION:2.0
PRODID:-//Vi i Langban//Event Calendar//SV
CALSCALE:GREGORIAN
METHOD:PUBLISH
BEGIN:VEVENT
UID:vil-event-3199@langban.se
DTSTAMP:20260425T124715Z
SUMMARY:Valborgsmässofirande Munkeberg i Filipstad
LOCATION:Munkebergsområdet
DTSTART:20260430T183000Z
DTEND:20260430T193000Z
STATUS:CONFIRMED
TRANSP:OPAQUE
END:VEVENT
END:VCALENDAR
