BEGIN:VCALENDAR
VERSION:2.0
PRODID:-//Vi i Langban//Event Calendar//SV
CALSCALE:GREGORIAN
METHOD:PUBLISH
BEGIN:VEVENT
UID:vil-event-3203@langban.se
DTSTAMP:20260425T124658Z
SUMMARY:24-timmars Fisketävling i Filipstad
LOCATION:Skribotjärn & Gammelhyttsjön
DTSTART:20260530T110000Z
DTEND:20260530T120000Z
STATUS:CONFIRMED
TRANSP:OPAQUE
END:VEVENT
END:VCALENDAR
