BEGIN:VCALENDAR
VERSION:2.0
PRODID:-//Vi i Langban//Event Calendar//SV
CALSCALE:GREGORIAN
METHOD:PUBLISH
BEGIN:VEVENT
UID:vil-event-3573@langban.se
DTSTAMP:20260425T124622Z
SUMMARY:Långlördag i butikerna i Filipstad
LOCATION:Filipstads kommun
DTSTART;VALUE=DATE:20260425
DTEND;VALUE=DATE:20260426
STATUS:CONFIRMED
TRANSP:OPAQUE
END:VEVENT
END:VCALENDAR
