BEGIN:VCALENDAR
VERSION:2.0
PRODID:-//Vi i Langban//Event Calendar//SV
CALSCALE:GREGORIAN
METHOD:PUBLISH
BEGIN:VEVENT
UID:vil-event-3576@langban.se
DTSTAMP:20260425T124547Z
SUMMARY:Music for the Eyes: Avin Omar &amp\; Maryam Javidmehr i Filipstad
LOCATION:Lesjöfors museum
DTSTART:20260425T150000Z
DTEND:20260425T160000Z
STATUS:CONFIRMED
TRANSP:OPAQUE
END:VEVENT
END:VCALENDAR
