BEGIN:VCALENDAR
VERSION:2.0
PRODID:-//Vi i Langban//Event Calendar//SV
CALSCALE:GREGORIAN
METHOD:PUBLISH
BEGIN:VEVENT
UID:vil-event-3582@langban.se
DTSTAMP:20260425T124731Z
SUMMARY:John Ericssondagen &amp\; Sjöslaget i Filipstad
LOCATION:Filipstad
DTSTART;VALUE=DATE:20260801
DTEND;VALUE=DATE:20260802
STATUS:CONFIRMED
TRANSP:OPAQUE
END:VEVENT
END:VCALENDAR
