BEGIN:VCALENDAR
VERSION:2.0
PRODID:-//Vi i Langban//Event Calendar//SV
CALSCALE:GREGORIAN
METHOD:PUBLISH
BEGIN:VEVENT
UID:vil-event-3658@langban.se
DTSTAMP:20260425T124620Z
SUMMARY:Vårmarknad i Brattfors i Filipstad
LOCATION:Brattfors
DTSTART:20260503T110000Z
DTEND:20260503T150000Z
STATUS:CONFIRMED
TRANSP:OPAQUE
END:VEVENT
END:VCALENDAR
