BEGIN:VCALENDAR
VERSION:2.0
PRODID:-//Vi i Langban//Event Calendar//SV
CALSCALE:GREGORIAN
METHOD:PUBLISH
BEGIN:VEVENT
UID:vil-event-3662@langban.se
DTSTAMP:20260425T124715Z
SUMMARY:Forsens dag i Asphyttan i Filipstad
LOCATION:Asphyttan
DTSTART:20260510T090000Z
DTEND:20260510T130000Z
STATUS:CONFIRMED
TRANSP:OPAQUE
END:VEVENT
END:VCALENDAR
